BEGIN:VCALENDAR
VERSION:2.0
PRODID:-//wp-events-plugin.com//7.2.3.1//EN
TZID:Europe/Berlin
X-WR-TIMEZONE:Europe/Berlin
BEGIN:VEVENT
UID:194@kinderschutzbund-schaumburg.de
DTSTART;TZID=Europe/Berlin:20230919T153000
DTEND;TZID=Europe/Berlin:20230919T180000
DTSTAMP:20230712T170303Z
URL:https://www.kinderschutzbund-schaumburg.de/events/familienzentrum-neue
 r-elternkurs-startet-in-stadthagen/
SUMMARY:Familienzentrum: Neuer Elternkurs startet in Stadthagen!
DESCRIPTION:Willkommen - ein neuer Elternkurs startet in Stadthagen!\n\n"St
 arke Eltern – Starke Kinder®"  mit einem Kinderspielangebot in einem a
 nderen Raum!\n\nDieses Kursangebot (9 Termine) richtet sich an alle Mütte
 r und Väter\, die mehr Leichtigkeit\, Freude und zugleich mehr Sicherheit
  in der Erziehung erreichen möchten!\n\nErziehung bedeutet für Sie als E
 ltern\, Ihrem Kind ein Vorbild zu sein und vor allem Liebe zu geben. Und w
 ie Sie wissen\, kann das manchmal sehr aufreibend sein. Erziehung ist eben
  auch harte Arbeit. Wir unterstützen Sie mit unserem Elternkurs darin\, I
 hren Familienalltag gelassener und souveräner zu meistern.\n\nStärkung d
 es Selbstbewusstseins aller Familienmitglieder\, Verbesserung des Miteinan
 der\, Konfliktbewältigung\, Schaffung von Freiräumen um frische Kraft zu
  tanken sind neben dem Spaß und dem Austausch mit anderen Eltern Schwerpu
 nkte dieses Kurses.\n\nLeitung:                      B
 irgit Schaper-Gerdes &amp\; Kerstin Pieper                
                  (Kinderschutzbund Schaumburg e.V.)\n\nBegi
 nn:                        Dienstag\, 19.09.2023 /d
 ann wöchentlich (9 Termine)\n\nZeit:                   
           15.30 Uhr – 18.00 Uhr\n\nKosten:           
             25\,-€ (plus 25\,-€ Kinderbetreuung)\n\nAnmeldu
 ng:               Familienzentrum Stadthagen\, Bahnhofstr.27\
 n\nTel.: 05721 - 890 10 11 \n\noder E-Mail: familienzentrum@stadthagen.de\
 n\noder unter info@kinderschutzbund-schaumburg.de\n\n2023_09_SESK mit Kind
 erbetreuung neu
CATEGORIES:Allgemein,Eltern im Gespräch,Väterarbeit
END:VEVENT
BEGIN:VTIMEZONE
TZID:Europe/Berlin
X-LIC-LOCATION:Europe/Berlin
BEGIN:DAYLIGHT
DTSTART:20230326T030000
TZOFFSETFROM:+0100
TZOFFSETTO:+0200
TZNAME:CEST
END:DAYLIGHT
END:VTIMEZONE
END:VCALENDAR