BEGIN:VCALENDAR
VERSION:2.0
PRODID:-//wp-events-plugin.com//7.2.3.1//EN
TZID:Europe/Berlin
X-WR-TIMEZONE:Europe/Berlin
BEGIN:VEVENT
UID:631@kinderschutzbund-schaumburg.de
DTSTART;TZID=Europe/Berlin:20240906T153000
DTEND;TZID=Europe/Berlin:20240906T173000
DTSTAMP:20250109T174946Z
URL:https://www.kinderschutzbund-schaumburg.de/events/neue-kaleidoskop-gru
 ppe-fuer-trauernde-kinder-in-bueckeburg-2024-09-06/
SUMMARY:Bückeburg: Neue Kaleidoskop-Gruppe für trauernde Kinder in Schaum
 burg
DESCRIPTION:Hallo liebe Kinder und Jugendliche\,\n\nbist du vielleicht öft
 er noch sehr traurig oder schnell mal wütend - oder besonders zurückgezo
 gen?\n\nVielleicht hast du einen großen Verlust\, durch den Tod eines gel
 iebten Menschen oder geliebtes Haustieres? Dieser Verlust beschäftigt dic
 h sehr stark in deinem Alltag?\n\nIn unserem Projekt "Kaleidoskop - Kinder
 trauer begleiten" gibt es eine neue Gruppe für trauernde Kinder ab Grunds
 chulalter! Gerne haben wir dich in unserer Runde!\n\nWir treffen uns jeden
  ersten Freitag im Monat von 15:30 bis 17:30 Uhr und\n\nstarten ab Freitag
  02. August 2024 im Ev.-Luth. Gemeindehaus in Bückeburg\, Am Kirchplatz 
 2.\n\nDie Gruppe wird von Natalie Rahe geleitet und Natalie ist Trauerbegl
 eiterin für Kinder und Jugendliche in unserem Projekt Kaleidoskop.\n\nAll
 e sind herzlich willkommen!\n\nBitte Anmelden und weitere Infos unter Tel:
  0178 6886 409\, bei Kerstin Pieper (Koordination Kaleidoskop)\n\noder dir
 ekt bei Natalie Rahe unter 01520/4295561.\n
CATEGORIES:Allgemein,Kaleidoskop
END:VEVENT
BEGIN:VTIMEZONE
TZID:Europe/Berlin
X-LIC-LOCATION:Europe/Berlin
BEGIN:DAYLIGHT
DTSTART:20240331T030000
TZOFFSETFROM:+0100
TZOFFSETTO:+0200
TZNAME:CEST
END:DAYLIGHT
END:VTIMEZONE
END:VCALENDAR