BEGIN:VCALENDAR
VERSION:2.0
PRODID:-//wp-events-plugin.com//7.2.3.1//EN
TZID:Europe/Berlin
X-WR-TIMEZONE:Europe/Berlin
BEGIN:VEVENT
UID:460@kinderschutzbund-schaumburg.de
DTSTART;TZID=Europe/Berlin:20240930T153000
DTEND;TZID=Europe/Berlin:20240930T173000
DTSTAMP:20241004T131958Z
URL:https://www.kinderschutzbund-schaumburg.de/events/spuernasen-gesucht-a
 usbildung-zum-gefuehlsdetektivin-gestartet-2024-09-30/
SUMMARY:Im Familienzentrum: Kursangebot "Spürnasen gesucht"
DESCRIPTION:Spürnasen gesucht - Ausbildung zum Gefühlsdetektiv*in!\n\n8 w
 öchiger Kreativkurs für Grundschüler*Innen\n\njeweils montags von 15:30
  Uhr bis 17:30 Uhr\n\nWir begeben uns mit euch auf eine spannende Reise du
 rch die\nWelt der Gefühle. Mutig und aufmerksam lernen wir uns selbst\nun
 d die anderen besser kennen\, staunen über die Vielfalt der\nGefühle und
  werden dann aus dem Erlebten heraus in die\nkreative Gestaltung gehen.\nW
 ir freuen uns auf eine bunte und fröhliche Zeit mit euch.\nJana und Natal
 ie\n\nSpürnasen - Angebot für Druck 19.08.24
END:VEVENT
BEGIN:VTIMEZONE
TZID:Europe/Berlin
X-LIC-LOCATION:Europe/Berlin
BEGIN:DAYLIGHT
DTSTART:20240331T030000
TZOFFSETFROM:+0100
TZOFFSETTO:+0200
TZNAME:CEST
END:DAYLIGHT
END:VTIMEZONE
END:VCALENDAR